BEGIN:VCALENDAR
VERSION:2.0
PRODID:-//ChamberMaster//Event Calendar 2.0//EN
METHOD:PUBLISH
X-PUBLISHED-TTL:P3D
REFRESH-INTERVAL:P3D
CALSCALE:GREGORIAN
BEGIN:VEVENT
DTSTART:20160405T000000Z
DTEND:20160407T000000Z
X-MICROSOFT-CDO-ALLDAYEVENT:FALSE
SUMMARY:Auditions for THE ODD COUPLE
DESCRIPTION:SYNOPSIS Set in the 1960?s in New York City\, this classic comedy is the story of how Oscar Madison and Felix Ungar\, the slob and the clean-freak\, ultimately decide to room together. With hysterical results\, The Odd Couple is born. ?Fresh\, richly hilarious and remarkably original. Wildly\, irresistibly and continuously funny.? ? New York Daily News ROLES NEEDED Oscar Madison: To play age 35-45. A slovenly\, recently divorced sportswriter. Felix Ungar: To play age 35-45. A fastidious\, hypochondriac news writer whose marriage is ending. Murray: To play age 30-50. An NYPD policeman\, one of Oscar and Felix's poker buddies. Speed: To play age 30-50. One of the poker buddies. Gruff and sarcastic\, often picking on Vinnie and Murray. Vinnie: To play 30-50. One of the poker buddies. Vinnie is mild-mannered and henpecked\, making him an easy target for Speed's verbal barbs. Roy: To play 30-50. One of the poker buddies. Oscar's accountant. Roy has a dry wit but is less acerbic than Speed. Cecily Pigeon: To play 30-40. Oscar and Felix's giggly upstairs neighbor\, a divorcee\, English\, sister to Gwendolyn. Gwendolyn Pigeon: To play 30-40. Oscar and Felix's giggly upstairs neighbor\, a widow\, English\, sister to Cecily. Auditions will consist of cold readings from the script. A perusal copy is available at the theatre. Rehearsals will be May 9 ? June 9. Production dates are June 10 - 26. Curtain time is 8:00 pm on Friday and Saturday and 2:00 pm on Sunday.
X-ALT-DESC;FMTTYPE=text/html:SYNOPSIS Set in the 1960?s in New York City\, this classic comedy is the story of how Oscar Madison and Felix Ungar\, the slob and the clean-freak\, ultimately decide to room together. With hysterical results\, The Odd Couple is born. ?Fresh\, richly hilarious and remarkably original. Wildly\, irresistibly and continuously funny.? ? New York Daily News ROLES NEEDED Oscar Madison: To play age 35-45. A slovenly\, recently divorced sportswriter. Felix Ungar: To play age 35-45. A fastidious\, hypochondriac news writer whose marriage is ending. Murray: To play age 30-50. An NYPD policeman\, one of Oscar and Felix&#39\;s poker buddies. Speed: To play age 30-50. One of the poker buddies. Gruff and sarcastic\, often picking on Vinnie and Murray. Vinnie: To play 30-50. One of the poker buddies. Vinnie is mild-mannered and henpecked\, making him an easy target for Speed&#39\;s verbal barbs. Roy: To play 30-50. One of the poker buddies. Oscar&#39\;s accountant. Roy has a dry wit but is less acerbic than Speed. Cecily Pigeon: To play 30-40. Oscar and Felix&#39\;s giggly upstairs neighbor\, a divorcee\, English\, sister to Gwendolyn. Gwendolyn Pigeon: To play 30-40. Oscar and Felix&#39\;s giggly upstairs neighbor\, a widow\, English\, sister to Cecily. Auditions will consist of cold readings from the script. A perusal copy is available at the theatre. Rehearsals will be May 9 ? June 9. Production dates are June 10 - 26. Curtain time is 8:00 pm on Friday and Saturday and 2:00 pm on Sunday.
LOCATION:Theatre Off The Square 114 North Denton St. Weatherford
UID:e.2477.3473
SEQUENCE:3
DTSTAMP:20260425T014753Z
URL:http://eastparkerchamber.chambermaster.com/events/details/auditions-for-the-odd-couple-04-04-2016-3473
END:VEVENT

END:VCALENDAR
